BEGIN:VCALENDAR
VERSION:2.0
PRODID:-//Františkánská rodina v ČR - ECPv6.15.20//NONSGML v1.0//EN
CALSCALE:GREGORIAN
METHOD:PUBLISH
X-ORIGINAL-URL:https://www.frantiskani.cz
X-WR-CALDESC:Akce na Františkánská rodina v ČR
REFRESH-INTERVAL;VALUE=DURATION:PT1H
X-Robots-Tag:noindex
X-PUBLISHED-TTL:PT1H
BEGIN:VTIMEZONE
TZID:Europe/Prague
BEGIN:DAYLIGHT
TZOFFSETFROM:+0100
TZOFFSETTO:+0200
TZNAME:CEST
DTSTART:20240331T010000
END:DAYLIGHT
BEGIN:STANDARD
TZOFFSETFROM:+0200
TZOFFSETTO:+0100
TZNAME:CET
DTSTART:20241027T010000
END:STANDARD
BEGIN:DAYLIGHT
TZOFFSETFROM:+0100
TZOFFSETTO:+0200
TZNAME:CEST
DTSTART:20250330T010000
END:DAYLIGHT
BEGIN:STANDARD
TZOFFSETFROM:+0200
TZOFFSETTO:+0100
TZNAME:CET
DTSTART:20251026T010000
END:STANDARD
BEGIN:DAYLIGHT
TZOFFSETFROM:+0100
TZOFFSETTO:+0200
TZNAME:CEST
DTSTART:20260329T010000
END:DAYLIGHT
BEGIN:STANDARD
TZOFFSETFROM:+0200
TZOFFSETTO:+0100
TZNAME:CET
DTSTART:20261025T010000
END:STANDARD
BEGIN:DAYLIGHT
TZOFFSETFROM:+0100
TZOFFSETTO:+0200
TZNAME:CEST
DTSTART:20270328T010000
END:DAYLIGHT
BEGIN:STANDARD
TZOFFSETFROM:+0200
TZOFFSETTO:+0100
TZNAME:CET
DTSTART:20271031T010000
END:STANDARD
END:VTIMEZONE
BEGIN:VEVENT
DTSTART;VALUE=DATE:20260418
DTEND;VALUE=DATE:20260419
DTSTAMP:20260426T005612
CREATED:20260131T170539Z
LAST-MODIFIED:20260131T170539Z
UID:13922-1776470400-1776556799@www.frantiskani.cz
SUMMARY:Pouť k hrobu Dr. Františka Noska Poříčí nad Sázavou
DESCRIPTION:  \nNárodní rada Sekulárního františkánského řádu ČR \nspolu s farností Poříčí nad Sázavou \n  \nvás srdečně zve na 91. tradiční  \nPouť k hrobu Dr. Františka Noska \n do Poříčí nad Sázavou \nv sobotu 18.dubna 2026 od 15\,00čí nad Sázavou \n  \nPři pouti je vždy slavena mše svatá za Dr. Františka Noska (1886–1935); františkánského terciáře a významného předválečného katolického politika a národohospodáře. Výročí jeho smrti je v měsíci dubnu a v té době tam putují ti\, kteří si cení jeho zbožnosti a také jeho aktivity. Zasloužil se mj. o postavení kostela sv. Anežky v Praze-Spořilově. \nLetos se bude pouť opět konat v radostném velikonočním období. Hlavním celebrantem této pouti bude Otec Jakub František Sadílek OFM\, provinciál řádu františkánů. \nProgram pouti: \n  \n15.00 hod. mše svatá za dr. Františka Noska v kostele sv. Havla (u řeky) \n16.00 hod. modlitba u hrobu dr.Noska na hřbitově u kostela\, \n16.15 hod. setkání poutníků na faře \n  \n  \n   Spojení : \n  \nz  Prahy hlavní nádraží   13:21                   v Čerčanech                       14:13 \nz Čerčan\, vlak                 14:17                   v Poříčí nad Sázavou         14:20 \nz Poříčí n.S.\, vlak            16:51                   v Praze\, hlavní nádraží      18:35 \nz Poříčí n.S. autobus       17:13                    v Benešově\, Terminál       17:27 \nz Benešova\, vlak             17:31                    v Praze\, hlavní nádraží     18:20 \nz Poříčí n.S. vlak             18:04                    v Čerčanech                      18:09 \nz Čerčan\, vlak                  18:13                    v Praze hlavní nádraží      19:05 \n  \n  \nBližší informace o pouti: muller.miloslav@centrum.cz\,   mobil 732 74 49 53. \n  \nMilé sestry\, milí bratři\, \nuž je na obzoru pouť do Poříčí n.S. v sobotu 18.dubna. Hlavním celebrantem bude Otec Jakub Sadílek OFM\, provinciál řádu františkánů. Mše svatá bude už od 15 hodin!\nPokoj a dobro přeje \nMiloslav Müller\nMBS Praha-Spořilov\nmobil: 732 74 49 53
URL:https://www.frantiskani.cz/index.php/event/pout-k-hrobu-dr-frantiska-noska-porici-nad-sazavou/
LOCATION:Poříčí  nad Sázavou\, Kostel sv. Havla\, Czech Republic
CATEGORIES:Akce národního společenství,MBS akce,poutě
ORGANIZER;CN="MBS Praha Spo%C5%99ilov":MAILTO:muller.miloslav@centrum.c
END:VEVENT
BEGIN:VEVENT
DTSTART;TZID=Europe/Prague:20260409T180000
DTEND;TZID=Europe/Prague:20260409T200000
DTSTAMP:20260426T005612
CREATED:20260408T181402Z
LAST-MODIFIED:20260408T181402Z
UID:14270-1775757600-1775764800@www.frantiskani.cz
SUMMARY:Potřebuje člověk k životu naději?
DESCRIPTION:Bratr Šebastián Pavel Smrčina OFM \nv kampusu ZČE v Plzni \nŠebastián Smrčina OFM
URL:https://www.frantiskani.cz/index.php/event/potrebuje-clovek-k-zivotu-nadeji/
CATEGORIES:Františkánská rodina,Semináře
END:VEVENT
BEGIN:VEVENT
DTSTART;VALUE=DATE:20260321
DTEND;VALUE=DATE:20260322
DTSTAMP:20260426T005612
CREATED:20260123T130931Z
LAST-MODIFIED:20260126T133354Z
UID:13882-1774051200-1774137599@www.frantiskani.cz
SUMMARY:21.3. Duchovní obnova MBS Plzeň (v Dobřanech)
DESCRIPTION:  \nMBS Plzeň – obnova\nNa naší radě MBS jsme připravili návrh časového rozvrhu takto: \n9\,00-9\,30 příchod účastníků (cca max 40 osob) \n9\,30-10\,00 přednáška JZ \n10\,00-11\,00 skupinky včetně souhrnu z nich \n11\,15-12\,00 mše \n12\,00-12\,45 oběd (Lasagne + polévka a zákusek = 250\,- a víc dobrovolně na akci) \n12\,45-13\,15 přednáška JZ \n13\,15-14\,15 skupinky včetně včetně souhrnu z nich \n14\,15-15\,00 časová rezerva \nMilí přátelé sv. Františka z Assisi\, \n  \nMístní bratrské společenství Sekulárního františkánského řádu Plzeň \nve spolupráci s Koinonií Jan Křtitel a s podporou města Dobřany \nzve na \nPostní oblastní duchovní obnovu \nv sobotu 21. 3. 2026 od 9.00 hodin \nv Komunitním centru (farní stodole) v Dobřanech \nDobřany\, nám. T. G. M. 3 (fara) – vstup z Mánesovy ulice (vedle školy) \n  \nObnovou na téma Dobrovolná skromnost provede bratr Mgr. Jiří Zajíc\, \nOFS\, katolický pedagog\, publicista\, skaut a formátor Národní rady SFŘ. Mši svatou \nbude sloužit některý z koinonijských kněží. \n  \nProgram: 9.00: prezence\, úhrada poplatku 200 Kč (program v příloze pdf.) \n(Lze autem i vlakem – z nádraží pěšky  do Mánesovy ul. Za náměstím 17 minut. Začátek programu 9:30) \n  \npro zájemce\, kteří se mohou zdržet déle:  \n15.00: komentovaná prohlídka unikátního barokního kostela sv. \nVíta\, farního kostela sv. Mikuláše a nové farní kaple Křtu Páně (vysvěcené \nbiskupem Tomášem 11. 1. 2026) včetně možnosti popití italské kávy na faře; nutno \npotvrdit zájem o prohlídku při přihlášení \n  \nPřihlášky: \nu bratra Františka Luboše Kolafy\, OFS – email: lubos.kolafa@kolafa. name\, \ntel.: 602 306 284\, do konce února 2026. \n 
URL:https://www.frantiskani.cz/index.php/event/21-3-duchovni-obnova-mbs-plzen-v-dobranech/
LOCATION:kaple křtu Páně Dobřany
CATEGORIES:MBS akce
ORGANIZER;CN="MBS Plze%C5%88":MAILTO:lubos.kolafa@kolafa.name
END:VEVENT
BEGIN:VEVENT
DTSTART;TZID=Europe/Prague:20260314T080000
DTEND;TZID=Europe/Prague:20260314T150000
DTSTAMP:20260426T005612
CREATED:20260312T065103Z
LAST-MODIFIED:20260312T065103Z
UID:14126-1773475200-1773500400@www.frantiskani.cz
SUMMARY:Postní duchovní obnovu a oblastní setkání v Opavě
DESCRIPTION:Místní bratrské společenství Sekulárního františkánského řádu Opava \nzve na \nPostní duchovní obnovu a oblastní setkání \nv sobotu 14. března. 2026 od 8.00 hodin \ndo pastoračního střediska Minoritského kláštera\, Masarykova třída 342/39\, OPAVA \nObnovu na téma Svátost SMÍŘENÍ povede \nOtec P. Jan Randa \nProgram: \n8.00 hod.: mše svatá v kostele sv. Ducha (s intencemi za živé a zemřelé členy SFŘ) \n8:40 hod.: Přivítání\, společná snídaně\, základní informace (Blanka Alžběta Závorková\, OFS) \n9.10 hod.: modlitby hodinek (ranní chvály\, nebo modlitba dopoledne) \n9.30 hod.: přednáška \n10:30 – 10:40 hod.: přestávka na kávu \n10:40 – 11:20 hod.: sdílení ve skupinkách \n11.30 hod.: Křížová cesta v kostele sv. Ducha zakončená svátostným požehnáním na cestu domů \n12:00 – 12:40 hod.: společný oběd (hustá gulášová polévka\, chléb) \n12.40 hod.: Závěr + Putování po opavských františkánských památkách pro sestry a bratry z MBS Frýdek-Místek a samozřejmě pro všechny další případné zájemce \nV průběhu obnovy patrně nebude možné přistoupit ke svátosti smíření \nPřihlašujte se do pátku 13.3.2026: rklasek@seznam.cz mobil: +420 603 852 438
URL:https://www.frantiskani.cz/index.php/event/postni-duchovni-obnovu-a-oblastni-setkani-v-opave/
LOCATION:klášter  Minoritů Opava\, Masarykova třída 342/39\, OPAVA\, Czech Republic
CATEGORIES:MBS akce
END:VEVENT
BEGIN:VEVENT
DTSTART;TZID=Europe/Prague:20260313T080000
DTEND;TZID=Europe/Prague:20260315T170000
DTSTAMP:20260426T005612
CREATED:20260122T081150Z
LAST-MODIFIED:20260122T081150Z
UID:13832-1773388800-1773594000@www.frantiskani.cz
SUMMARY:Zveme mladé lidi na františkánskou duchovní obnovu
DESCRIPTION:Zveme mladé lidi na františkánskou duchovní obnovu \n\n\nSejdeme se na Velehradě 13. – 15. března 2026. Téma je Naplněný život.\n\n\nPřihlášky posílejte do 7. března 2026 na email frantiskanskaobnova@seznam.cz. Akce je pro účastníky 18-30 let. Těšíme se \nhttps://www.ofm.cz/2026/01/20/obnova/
URL:https://www.frantiskani.cz/index.php/event/zveme-mlade-lidi-na-frantiskanskou-duchovni-obnovu/
LOCATION:Velehrad
CATEGORIES:Františkánská rodina,Semináře
END:VEVENT
BEGIN:VEVENT
DTSTART;TZID=Europe/Prague:20260228T140000
DTEND;TZID=Europe/Prague:20260228T180000
DTSTAMP:20260426T005612
CREATED:20260213T071122Z
LAST-MODIFIED:20260213T071123Z
UID:13979-1772287200-1772301600@www.frantiskani.cz
SUMMARY:Přednáška Jihlava 28.2.2026 služebnice Boží
DESCRIPTION:služebnice Boží
URL:https://www.frantiskani.cz/index.php/event/prednaska-jihlava-28-2-2026-sluzebnice-bozi/
LOCATION:Jihlava\, kostel Nanebevzetí Panny Marie\, Jihlava\, Czech Republic
CATEGORIES:MBS akce
END:VEVENT
BEGIN:VEVENT
DTSTART;VALUE=DATE:20260116
DTEND;VALUE=DATE:20260119
DTSTAMP:20260426T005612
CREATED:20251023T065832Z
LAST-MODIFIED:20251023T070744Z
UID:13187-1768521600-1768780799@www.frantiskani.cz
SUMMARY:Seminář služebníků SFŘ 2026 v Brně - leden
DESCRIPTION:ZDE čti nebi tiskni -pozvánka na seminář Brno 2026 leden\nPozvánka:\nLednový seminář pro služebníky MBS v roce 2026\nTéma: Dobrovolná skromnost\nTermín 16.1 – 18.1.2026\n  \nProgram jako pravidelně začne mší svatou v pátek v kostele při klášteře Kapucínů v Brně. Bude pokračovat ubytováním v Petrinu Veveří\, kolem 19\,00 pak bude společná večeře z toho\, co kdo přinese. A pak se už pustíme do vlastního programu\, kterým se tentokrát zaměříme na důležitý prvek našeho františkánského stylu života – skromnost. Jakým způsobem bude toto téma zakomponováno do víkendového programu\, se včas dozvíte. Už teď se ale můžete těšit na společné hledání\, sdílení i debatování\, při kterých se budete moci aktivně zapojit a přispět tak k vytvoření skutečného společenství. \nDo přihlášky\, kterou zašleme do MBS v listopadu po formačním setkání v Praze (koná se u minoritů v Praze 7.11\,- 9.11.2025)\, uvedete žádost o nocleh a případné dva obědy v restauraci. Bude hrazeno dobrovolnými dary za podpory národní rady. Ceny Petrina a restaurace budou součástí přihlášky. \nZa program je odpovědný Jiří Zajíc\, za technické zázemí Luboš Kolafa. \n 
URL:https://www.frantiskani.cz/index.php/event/seminar-sluzebniku-sfr/
LOCATION:Brno Veveří Petrinum\, : Veveří 462/15\, 602 00 Brno-střed\, Brno\, Czech Republic
CATEGORIES:Akce národního společenství,Semináře
ATTACH;FMTTYPE=image/jpeg:https://www.frantiskani.cz/wp-content/uploads/2016/12/seminar-2019-10.jpg
ORGANIZER;CN="N%C3%A1rodn%C3%AD rada SF%C5%98":MAILTO:info@sfr.cz
END:VEVENT
BEGIN:VEVENT
DTSTART;VALUE=DATE:20260110
DTEND;VALUE=DATE:20260111
DTSTAMP:20260426T005612
CREATED:20251120T190600Z
LAST-MODIFIED:20251120T191121Z
UID:13420-1768003200-1768089599@www.frantiskani.cz
SUMMARY:Tříkrálové setkání v Praze 10.1.2025
DESCRIPTION:tříkrálové setkání
URL:https://www.frantiskani.cz/index.php/event/trikralove-setkani-v-praze-10-1-2025/
LOCATION:Klášter františkánů PMS Praha\, Jungmanovo nám\, Praha\, Praha\, 101 00\, Czech Republic
CATEGORIES:MBS akce
ORGANIZER;CN="MBS Cerno%C5%A1ice":MAILTO:po.horka@volny.cz
END:VEVENT
BEGIN:VEVENT
DTSTART;VALUE=DATE:20251206
DTEND;VALUE=DATE:20251211
DTSTAMP:20260426T005612
CREATED:20251201T124208Z
LAST-MODIFIED:20251201T124208Z
UID:13512-1764979200-1765411199@www.frantiskani.cz
SUMMARY:Klášter Hájek u Prahy  6.12 a 10.12. 2025
DESCRIPTION:Milí přátelé Hájku\, \nblíží se závěr poutní sezony a srdečně vás zveme ve středu 10. 12. v 17:00 na poutní mši svatou ke svátku Panny Marie Loretánské. \nZároveň vás zveme na prosincovou brigádu\, která se uskuteční v sobotu 6. 12. od 9:00 do 15:00. \nPlakátky s podrobnostmi najdete v příloze. \n  \nPřejeme vám všem požehnaný a radostný advent a těšíme se na vás.\nVáš hájecký tým \nHájek u Prahy\nHájek u Prahy
URL:https://www.frantiskani.cz/index.php/event/klaster-hajek-u-prahy/
LOCATION:Hájek u Prahy Klášter\, Hájecká 43\, 273 51 Červený Újezd – pošta Unhošť\, středočeský\, 273 51\, Czech Republic
CATEGORIES:poutě
END:VEVENT
BEGIN:VEVENT
DTSTART;TZID=Europe/Prague:20251107T170000
DTEND;TZID=Europe/Prague:20251109T170000
DTSTAMP:20260426T005612
CREATED:20251013T064614Z
LAST-MODIFIED:20251013T065112Z
UID:13090-1762534800-1762707600@www.frantiskani.cz
SUMMARY:Seminář Chvalozpěv stvoření 7.-9.11.2025 u minoritů v Praze
DESCRIPTION:program a pokyny k ubytováním na adrese www.sfr.cz \nhttps://www.sfr.cz/aktuality/pozvanky/a/seminar-chvalozpev-stvoreni-7-9112025-u-minoritu-v-praze#gsc.tab=0 \nseminář chvalozpěv stvoření
URL:https://www.frantiskani.cz/index.php/event/seminar-chvalozpev-stvoreni-7-9-11-2025-u-minoritu-v-praze/
LOCATION:U Jakuba minorité Praha\, Malá Štupartská 6\, Praha 1\, Praha\, Czech Republic
CATEGORIES:Akce národního společenství
ATTACH;FMTTYPE=image/jpeg:https://www.frantiskani.cz/wp-content/uploads/2025/02/Obrazek-23.02.2025-v-13.28.jpeg
ORGANIZER;CN="N%C3%A1rodn%C3%AD rada SF%C5%98":MAILTO:info@sfr.cz
END:VEVENT
BEGIN:VEVENT
DTSTART;VALUE=DATE:20250906
DTEND;VALUE=DATE:20250907
DTSTAMP:20260426T005612
CREATED:20250902T084655Z
LAST-MODIFIED:20250902T085555Z
UID:12599-1757116800-1757203199@www.frantiskani.cz
SUMMARY:pouť do Hájku u Prahy
DESCRIPTION:PrahyMilí přátelé Hájku\, \npouť Hájek\nPoutníci z Prahy se tradičně vydají pěšky od zastávky Malovanka.\nPrůvod se sochou Panny Marie vyjde od XVIII. kaple v 10:15. \nVíce informací naleznete na přiložených plakátech. \nTěšíme se na společné setkání a radostné chvíle v Hájku! \nVáš hájecký tým
URL:https://www.frantiskani.cz/index.php/event/pout-do-hajku-u-prahy/
CATEGORIES:poutě
END:VEVENT
END:VCALENDAR