BEGIN:VCALENDAR
VERSION:2.0
PRODID:-//Františkánská rodina v ČR - ECPv6.15.20//NONSGML v1.0//EN
CALSCALE:GREGORIAN
METHOD:PUBLISH
X-WR-CALNAME:Františkánská rodina v ČR
X-ORIGINAL-URL:https://www.frantiskani.cz
X-WR-CALDESC:Akce na Františkánská rodina v ČR
REFRESH-INTERVAL;VALUE=DURATION:PT1H
X-Robots-Tag:noindex
X-PUBLISHED-TTL:PT1H
BEGIN:VTIMEZONE
TZID:Europe/Prague
BEGIN:DAYLIGHT
TZOFFSETFROM:+0100
TZOFFSETTO:+0200
TZNAME:CEST
DTSTART:20250330T010000
END:DAYLIGHT
BEGIN:STANDARD
TZOFFSETFROM:+0200
TZOFFSETTO:+0100
TZNAME:CET
DTSTART:20251026T010000
END:STANDARD
BEGIN:DAYLIGHT
TZOFFSETFROM:+0100
TZOFFSETTO:+0200
TZNAME:CEST
DTSTART:20260329T010000
END:DAYLIGHT
BEGIN:STANDARD
TZOFFSETFROM:+0200
TZOFFSETTO:+0100
TZNAME:CET
DTSTART:20261025T010000
END:STANDARD
BEGIN:DAYLIGHT
TZOFFSETFROM:+0100
TZOFFSETTO:+0200
TZNAME:CEST
DTSTART:20270328T010000
END:DAYLIGHT
BEGIN:STANDARD
TZOFFSETFROM:+0200
TZOFFSETTO:+0100
TZNAME:CET
DTSTART:20271031T010000
END:STANDARD
END:VTIMEZONE
BEGIN:VEVENT
DTSTART;VALUE=DATE:20260116
DTEND;VALUE=DATE:20260119
DTSTAMP:20260426T045454
CREATED:20251023T065832Z
LAST-MODIFIED:20251023T070744Z
UID:13187-1768521600-1768780799@www.frantiskani.cz
SUMMARY:Seminář služebníků SFŘ 2026 v Brně - leden
DESCRIPTION:ZDE čti nebi tiskni -pozvánka na seminář Brno 2026 leden\nPozvánka:\nLednový seminář pro služebníky MBS v roce 2026\nTéma: Dobrovolná skromnost\nTermín 16.1 – 18.1.2026\n  \nProgram jako pravidelně začne mší svatou v pátek v kostele při klášteře Kapucínů v Brně. Bude pokračovat ubytováním v Petrinu Veveří\, kolem 19\,00 pak bude společná večeře z toho\, co kdo přinese. A pak se už pustíme do vlastního programu\, kterým se tentokrát zaměříme na důležitý prvek našeho františkánského stylu života – skromnost. Jakým způsobem bude toto téma zakomponováno do víkendového programu\, se včas dozvíte. Už teď se ale můžete těšit na společné hledání\, sdílení i debatování\, při kterých se budete moci aktivně zapojit a přispět tak k vytvoření skutečného společenství. \nDo přihlášky\, kterou zašleme do MBS v listopadu po formačním setkání v Praze (koná se u minoritů v Praze 7.11\,- 9.11.2025)\, uvedete žádost o nocleh a případné dva obědy v restauraci. Bude hrazeno dobrovolnými dary za podpory národní rady. Ceny Petrina a restaurace budou součástí přihlášky. \nZa program je odpovědný Jiří Zajíc\, za technické zázemí Luboš Kolafa. \n 
URL:https://www.frantiskani.cz/index.php/event/seminar-sluzebniku-sfr/
LOCATION:Brno Veveří Petrinum\, : Veveří 462/15\, 602 00 Brno-střed\, Brno\, Czech Republic
CATEGORIES:Akce národního společenství,Semináře
ATTACH;FMTTYPE=image/jpeg:https://www.frantiskani.cz/wp-content/uploads/2016/12/seminar-2019-10.jpg
ORGANIZER;CN="N%C3%A1rodn%C3%AD rada SF%C5%98":MAILTO:info@sfr.cz
END:VEVENT
END:VCALENDAR