BEGIN:VCALENDAR
VERSION:2.0
PRODID:-//Františkánská rodina v ČR - ECPv6.15.20//NONSGML v1.0//EN
CALSCALE:GREGORIAN
METHOD:PUBLISH
X-WR-CALNAME:Františkánská rodina v ČR
X-ORIGINAL-URL:https://www.frantiskani.cz
X-WR-CALDESC:Akce na Františkánská rodina v ČR
REFRESH-INTERVAL;VALUE=DURATION:PT1H
X-Robots-Tag:noindex
X-PUBLISHED-TTL:PT1H
BEGIN:VTIMEZONE
TZID:Europe/Prague
BEGIN:DAYLIGHT
TZOFFSETFROM:+0100
TZOFFSETTO:+0200
TZNAME:CEST
DTSTART:20240331T010000
END:DAYLIGHT
BEGIN:STANDARD
TZOFFSETFROM:+0200
TZOFFSETTO:+0100
TZNAME:CET
DTSTART:20241027T010000
END:STANDARD
BEGIN:DAYLIGHT
TZOFFSETFROM:+0100
TZOFFSETTO:+0200
TZNAME:CEST
DTSTART:20250330T010000
END:DAYLIGHT
BEGIN:STANDARD
TZOFFSETFROM:+0200
TZOFFSETTO:+0100
TZNAME:CET
DTSTART:20251026T010000
END:STANDARD
BEGIN:DAYLIGHT
TZOFFSETFROM:+0100
TZOFFSETTO:+0200
TZNAME:CEST
DTSTART:20260329T010000
END:DAYLIGHT
BEGIN:STANDARD
TZOFFSETFROM:+0200
TZOFFSETTO:+0100
TZNAME:CET
DTSTART:20261025T010000
END:STANDARD
END:VTIMEZONE
BEGIN:VEVENT
DTSTART;TZID=Europe/Prague:20251107T170000
DTEND;TZID=Europe/Prague:20251109T170000
DTSTAMP:20260426T045547
CREATED:20251013T064614Z
LAST-MODIFIED:20251013T065112Z
UID:13090-1762534800-1762707600@www.frantiskani.cz
SUMMARY:Seminář Chvalozpěv stvoření 7.-9.11.2025 u minoritů v Praze
DESCRIPTION:program a pokyny k ubytováním na adrese www.sfr.cz \nhttps://www.sfr.cz/aktuality/pozvanky/a/seminar-chvalozpev-stvoreni-7-9112025-u-minoritu-v-praze#gsc.tab=0 \nseminář chvalozpěv stvoření
URL:https://www.frantiskani.cz/index.php/event/seminar-chvalozpev-stvoreni-7-9-11-2025-u-minoritu-v-praze/
LOCATION:U Jakuba minorité Praha\, Malá Štupartská 6\, Praha 1\, Praha\, Czech Republic
CATEGORIES:Akce národního společenství
ATTACH;FMTTYPE=image/jpeg:https://www.frantiskani.cz/wp-content/uploads/2025/02/Obrazek-23.02.2025-v-13.28.jpeg
ORGANIZER;CN="N%C3%A1rodn%C3%AD rada SF%C5%98":MAILTO:info@sfr.cz
END:VEVENT
END:VCALENDAR