BEGIN:VCALENDAR
VERSION:2.0
PRODID:-//Františkánská rodina v ČR - ECPv6.15.20//NONSGML v1.0//EN
CALSCALE:GREGORIAN
METHOD:PUBLISH
X-ORIGINAL-URL:https://www.frantiskani.cz
X-WR-CALDESC:Akce na Františkánská rodina v ČR
REFRESH-INTERVAL;VALUE=DURATION:PT1H
X-Robots-Tag:noindex
X-PUBLISHED-TTL:PT1H
BEGIN:VTIMEZONE
TZID:Europe/Prague
BEGIN:DAYLIGHT
TZOFFSETFROM:+0100
TZOFFSETTO:+0200
TZNAME:CEST
DTSTART:20250330T010000
END:DAYLIGHT
BEGIN:STANDARD
TZOFFSETFROM:+0200
TZOFFSETTO:+0100
TZNAME:CET
DTSTART:20251026T010000
END:STANDARD
BEGIN:DAYLIGHT
TZOFFSETFROM:+0100
TZOFFSETTO:+0200
TZNAME:CEST
DTSTART:20260329T010000
END:DAYLIGHT
BEGIN:STANDARD
TZOFFSETFROM:+0200
TZOFFSETTO:+0100
TZNAME:CET
DTSTART:20261025T010000
END:STANDARD
BEGIN:DAYLIGHT
TZOFFSETFROM:+0100
TZOFFSETTO:+0200
TZNAME:CEST
DTSTART:20270328T010000
END:DAYLIGHT
BEGIN:STANDARD
TZOFFSETFROM:+0200
TZOFFSETTO:+0100
TZNAME:CET
DTSTART:20271031T010000
END:STANDARD
END:VTIMEZONE
BEGIN:VEVENT
DTSTART;TZID=Europe/Prague:20260613T140000
DTEND;TZID=Europe/Prague:20260613T170000
DTSTAMP:20260426T021128
CREATED:20260413T044241Z
LAST-MODIFIED:20260413T044346Z
UID:14295-1781359200-1781370000@www.frantiskani.cz
SUMMARY:Den se sv. Františkem v Brně
DESCRIPTION:  \nDen se sv. Františkem\nhttps://www.sfr.cz/aktuality/pozvanky/a/den-se-svatym-frantiskem-1362026-v-brne#gsc.tab=0
URL:https://www.frantiskani.cz/index.php/event/dne-se-sv-frantiskem-v-brne/
LOCATION:kostel minoritů v brně\, Minoritská 469/1\, Brno\, Czech Republic
CATEGORIES:Františkánská rodina
END:VEVENT
END:VCALENDAR