BEGIN:VCALENDAR
VERSION:2.0
PRODID:-//Františkánská rodina v ČR - ECPv6.15.20//NONSGML v1.0//EN
CALSCALE:GREGORIAN
METHOD:PUBLISH
X-ORIGINAL-URL:https://www.frantiskani.cz
X-WR-CALDESC:Akce na Františkánská rodina v ČR
REFRESH-INTERVAL;VALUE=DURATION:PT1H
X-Robots-Tag:noindex
X-PUBLISHED-TTL:PT1H
BEGIN:VTIMEZONE
TZID:Europe/Prague
BEGIN:DAYLIGHT
TZOFFSETFROM:+0100
TZOFFSETTO:+0200
TZNAME:CEST
DTSTART:20250330T010000
END:DAYLIGHT
BEGIN:STANDARD
TZOFFSETFROM:+0200
TZOFFSETTO:+0100
TZNAME:CET
DTSTART:20251026T010000
END:STANDARD
BEGIN:DAYLIGHT
TZOFFSETFROM:+0100
TZOFFSETTO:+0200
TZNAME:CEST
DTSTART:20260329T010000
END:DAYLIGHT
BEGIN:STANDARD
TZOFFSETFROM:+0200
TZOFFSETTO:+0100
TZNAME:CET
DTSTART:20261025T010000
END:STANDARD
BEGIN:DAYLIGHT
TZOFFSETFROM:+0100
TZOFFSETTO:+0200
TZNAME:CEST
DTSTART:20270328T010000
END:DAYLIGHT
BEGIN:STANDARD
TZOFFSETFROM:+0200
TZOFFSETTO:+0100
TZNAME:CET
DTSTART:20271031T010000
END:STANDARD
END:VTIMEZONE
BEGIN:VEVENT
DTSTART;VALUE=DATE:20260828
DTEND;VALUE=DATE:20260829
DTSTAMP:20260426T061842
CREATED:20260414T162431Z
LAST-MODIFIED:20260414T162657Z
UID:14317-1787875200-1787961599@www.frantiskani.cz
SUMMARY:Františkánskou stezkou v Hradci Králové
DESCRIPTION:29.8.2026 Františkánskou stezkou \nINFORMACE ZATÍM ZDE \nMinistr společenství Luděk Hajský\, ludek.hajsky/et/tiscali.cz \nZástupce ministra Vladimír Dvořák\, vladimirdvorakhk/et/seznam.cz \nMBS má své webové stránky: http://frantiskanihk.eu/ \nPOZDĚJI POZVÁNKA NA www.sfr.cz \n 
URL:https://www.frantiskani.cz/index.php/event/frantiskanskou-stezkou-v-hradci-kralove/
LOCATION:Hradec Králové
CATEGORIES:MBS akce
END:VEVENT
END:VCALENDAR