BEGIN:VCALENDAR
VERSION:2.0
PRODID:-//Františkánská rodina v ČR - ECPv6.15.20//NONSGML v1.0//EN
CALSCALE:GREGORIAN
METHOD:PUBLISH
X-WR-CALNAME:Františkánská rodina v ČR
X-ORIGINAL-URL:https://www.frantiskani.cz
X-WR-CALDESC:Akce na Františkánská rodina v ČR
REFRESH-INTERVAL;VALUE=DURATION:PT1H
X-Robots-Tag:noindex
X-PUBLISHED-TTL:PT1H
BEGIN:VTIMEZONE
TZID:Europe/Prague
BEGIN:DAYLIGHT
TZOFFSETFROM:+0100
TZOFFSETTO:+0200
TZNAME:CEST
DTSTART:20250330T010000
END:DAYLIGHT
BEGIN:STANDARD
TZOFFSETFROM:+0200
TZOFFSETTO:+0100
TZNAME:CET
DTSTART:20251026T010000
END:STANDARD
BEGIN:DAYLIGHT
TZOFFSETFROM:+0100
TZOFFSETTO:+0200
TZNAME:CEST
DTSTART:20260329T010000
END:DAYLIGHT
BEGIN:STANDARD
TZOFFSETFROM:+0200
TZOFFSETTO:+0100
TZNAME:CET
DTSTART:20261025T010000
END:STANDARD
BEGIN:DAYLIGHT
TZOFFSETFROM:+0100
TZOFFSETTO:+0200
TZNAME:CEST
DTSTART:20270328T010000
END:DAYLIGHT
BEGIN:STANDARD
TZOFFSETFROM:+0200
TZOFFSETTO:+0100
TZNAME:CET
DTSTART:20271031T010000
END:STANDARD
END:VTIMEZONE
BEGIN:VEVENT
DTSTART;TZID=Europe/Prague:20260228T140000
DTEND;TZID=Europe/Prague:20260228T180000
DTSTAMP:20260426T045617
CREATED:20260213T071122Z
LAST-MODIFIED:20260213T071123Z
UID:13979-1772287200-1772301600@www.frantiskani.cz
SUMMARY:Přednáška Jihlava 28.2.2026 služebnice Boží
DESCRIPTION:služebnice Boží
URL:https://www.frantiskani.cz/index.php/event/prednaska-jihlava-28-2-2026-sluzebnice-bozi/
LOCATION:Jihlava\, kostel Nanebevzetí Panny Marie\, Jihlava\, Czech Republic
CATEGORIES:MBS akce
END:VEVENT
END:VCALENDAR