BEGIN:VCALENDAR
VERSION:2.0
PRODID:-//Františkánská rodina v ČR - ECPv6.15.20//NONSGML v1.0//EN
CALSCALE:GREGORIAN
METHOD:PUBLISH
X-ORIGINAL-URL:https://www.frantiskani.cz
X-WR-CALDESC:Akce na Františkánská rodina v ČR
REFRESH-INTERVAL;VALUE=DURATION:PT1H
X-Robots-Tag:noindex
X-PUBLISHED-TTL:PT1H
BEGIN:VTIMEZONE
TZID:Europe/Prague
BEGIN:DAYLIGHT
TZOFFSETFROM:+0100
TZOFFSETTO:+0200
TZNAME:CEST
DTSTART:20250330T010000
END:DAYLIGHT
BEGIN:STANDARD
TZOFFSETFROM:+0200
TZOFFSETTO:+0100
TZNAME:CET
DTSTART:20251026T010000
END:STANDARD
BEGIN:DAYLIGHT
TZOFFSETFROM:+0100
TZOFFSETTO:+0200
TZNAME:CEST
DTSTART:20260329T010000
END:DAYLIGHT
BEGIN:STANDARD
TZOFFSETFROM:+0200
TZOFFSETTO:+0100
TZNAME:CET
DTSTART:20261025T010000
END:STANDARD
BEGIN:DAYLIGHT
TZOFFSETFROM:+0100
TZOFFSETTO:+0200
TZNAME:CEST
DTSTART:20270328T010000
END:DAYLIGHT
BEGIN:STANDARD
TZOFFSETFROM:+0200
TZOFFSETTO:+0100
TZNAME:CET
DTSTART:20271031T010000
END:STANDARD
END:VTIMEZONE
BEGIN:VEVENT
DTSTART;TZID=Europe/Prague:20260516T100000
DTEND;TZID=Europe/Prague:20260516T170000
DTSTAMP:20260426T061842
CREATED:20260418T062550Z
LAST-MODIFIED:20260418T062624Z
UID:14330-1778925600-1778950800@www.frantiskani.cz
SUMMARY:Pouť Elišky Pretschnerové 16. května v Nových Zámcích
DESCRIPTION:Hoješín
URL:https://www.frantiskani.cz/index.php/event/pout-elisky-pretschnerove-16-kvetna-v-novych-zamcich/
END:VEVENT
END:VCALENDAR